BEGIN:VCALENDAR
VERSION:2.0
PRODID:-//wp-events-plugin.com//7.2.3.1//EN
TZID:Europe/Warsaw
X-WR-TIMEZONE:Europe/Warsaw
BEGIN:VEVENT
UID:130@skarbygor.pl
DTSTART;TZID=Europe/Warsaw:20191124T110000
DTEND;TZID=Europe/Warsaw:20191124T180000
DTSTAMP:20191120T140203Z
URL:https://skarbygor.pl/events/14-spotkanie-muzyk-podhalanskich-dziadoncy
 ne-granie/
SUMMARY:14. Spotkanie Muzyk Podhalańskich "Dziadońcyne Granie"
DESCRIPTION:Serdecznie zapraszamy na 14. Spotkanie Muzyk Podhalańskich "Dz
 iadońcyne Granie" które odbędzie się 24 listopada 2019r. w Bukowiańsk
 im Centrum Kultury "Dom Ludowy":\n\n11:00 Msza św. w kościele parafialny
 m w Bukowinie Tatrzańskiej.\nZłożenie kwiatów na grobach muzykantów s
 poczywających na miejscowym cmentarzu\n\n13:30 Rozpoczęcie muzykowania\n
 \n17:30 Wręczenie "Dziadońcynego smycka"\n\n[caption id="attachment_6592
 " align="alignleft" width="527"] 14 Spotkanie Muzyk Podhalańskich Dziado
 ńcyne Granie - plakat[/caption]\n\n&nbsp\;
ATTACH;FMTTYPE=image/jpeg:https://skarbygor.pl/wp-content/uploads/2019/11/
 Dziadońcyne-Granie.jpg
CATEGORIES:Bukowiańskie Centrum Kultury "Dom Ludowy",Inne wydarzenia
LOCATION:Bukowiańskie Centrum Kultury "Dom Ludowy"\, ul. Tadeusza Kościus
 zki 87\, Bukowina Tatrzańska\, Małopolskie\, 34-530\, małopolska\, Pola
 nd
GEO:49.339497;20.102189
X-APPLE-STRUCTURED-LOCATION;VALUE=URI;X-ADDRESS=ul. Tadeusza Kościuszki 87
 \, Bukowina Tatrzańska\, Małopolskie\, 34-530\, małopolska\, Poland;X-A
 PPLE-RADIUS=100;X-TITLE=Bukowiańskie Centrum Kultury \"Dom Ludowy\":geo:4
 9.339497,20.102189
END:VEVENT
BEGIN:VTIMEZONE
TZID:Europe/Warsaw
X-LIC-LOCATION:Europe/Warsaw
BEGIN:STANDARD
DTSTART:20191027T020000
TZOFFSETFROM:+0200
TZOFFSETTO:+0100
TZNAME:CET
END:STANDARD
END:VTIMEZONE
END:VCALENDAR