BEGIN:VCALENDAR
VERSION:2.0
PRODID:-//wp-events-plugin.com//7.2.3.1//EN
TZID:Europe/Warsaw
X-WR-TIMEZONE:Europe/Warsaw
BEGIN:VEVENT
UID:82@skarbygor.pl
DTSTART;TZID=Europe/Warsaw;VALUE=DATE:20190214
DTEND;TZID=Europe/Warsaw;VALUE=DATE:20190218
DTSTAMP:20190117T202053Z
URL:https://skarbygor.pl/events/47-goralski-karnawal/
SUMMARY:47. Góralski Karnawał
DESCRIPTION:47. Góralski Karnawał\nBukowina Tatrzańska\, 14 - 17 lutego 
 2019 r.\nPROGRAM\n14 lutego (czwartek)\n\n11.00    Paradny przejazd kap
 el i zaproszonych gości zaprzęgami konnymi przez Bukowinę Tatrzańską\
 n\n12.00    OFICJALNE OTWARCIE 47. GÓRALSKIEGO KARNAWAŁU\n\nprezentac
 ja muzyk\, występy zespołów regionalnych\n\n15.00    Konkurs grup ko
 lędniczych\n\n19.00    WIECZÓR LACHÓW SZCZYŻYCKICH\n\nWystęp Zespo
 łu Regionalnego ŚWARNI  ŁOJCE z Sadku - Kostrzy\n\n20.00    Konkurs
  tańca zbójnickiego\, popis par tanecznych\n\n15 lutego (piątek)\n\n10.
 00    Konkurs grup kolędniczych\n\n15.00    Konkurs grup kolędnicz
 ych\n\n19.00    WIECZÓR CYGAŃSKI\n\nKoncert zespołu KAŁE BAŁA z Cz
 arnej Góry\n\n20.00    Konkurs tańca zbójnickiego\, popis par tanecz
 nych\n\n\n\n\n\n(adsbygoogle = window.adsbygoogle || []).push({})\;\n\n\n1
 6 lutego (sobota)\n\n10.00    Konkurs grup kolędniczych\n\n11.00   
  IX Zimowa Krajowa Wystawa Polskich Owczarków Podhalańskich (parking pod
  Domem Ludowym)\n\n19.00    WIECZÓR TATARSKI\n\nKarolina Cicha &amp\; 
 Spółka\n\n20.00    Konkurs tańca zbójnickiego\, popis par tanecznyc
 h\n\n17 lutego (niedziela)\n\n10.00    Zawody strzeleckie o „Turoniow
 y Róg” (teren pod bukowiańskimi termami)\n\n11.00    KUMOTERKI\n\n 
 	Parada Gazdowska\n 	Parada Kumoterska\n 	Zawody Kumoterek\, Skiringu\, Sk
 i-skiringu\n\n(teren pod bukowiańskimi termami)\n\n17.00    OFICJALNE 
 OGŁOSZENIE WYNIKÓW 47. GÓRALSKIEGO KARNAWAŁU\n\n&nbsp\;\n\nWYDARZENIA 
 TOWARZYSZĄCE:\n\n 	Wystawa Twórczości Ludowej (w godz. 10.00-20.00\; ś
 wietlica Domu Ludowego)\n 	Prezentacja prac konkursowych pt.: „Taniec g
 óralski zaklęty w…” wykonanych przez uczniów Bukowiańskiej Szkoły
  Ginących Zawodów (w godz. 10.00-20.00\; świetlica Domu Ludowego)\n\n 
 Organizator zastrzega sobie prawo zmian w programie.\n\nCena biletu na wyd
 arzenia wieczorne (od godz. 19.00) - 20 zł\; dzieci do lat 6 wstęp wolny
 .
ATTACH;FMTTYPE=image/jpeg:https://skarbygor.pl/wp-content/uploads/2018/02/
 DSC_1674.jpg
CATEGORIES:47. Góralski Karnawał,Bukowiańskie Centrum Kultury "Dom
 Ludowy",Góralski Karnawał
LOCATION:Bukowiańskie Centrum Kultury "Dom Ludowy"\, ul. Tadeusza Kościus
 zki 87\, Bukowina Tatrzańska\, Małopolskie\, 34-530\, małopolska\, Pola
 nd
GEO:49.339497;20.102189
X-APPLE-STRUCTURED-LOCATION;VALUE=URI;X-ADDRESS=ul. Tadeusza Kościuszki 87
 \, Bukowina Tatrzańska\, Małopolskie\, 34-530\, małopolska\, Poland;X-A
 PPLE-RADIUS=100;X-TITLE=Bukowiańskie Centrum Kultury \"Dom Ludowy\":geo:4
 9.339497,20.102189
END:VEVENT
BEGIN:VTIMEZONE
TZID:Europe/Warsaw
X-LIC-LOCATION:Europe/Warsaw
BEGIN:STANDARD
DTSTART:20181028T020000
TZOFFSETFROM:+0200
TZOFFSETTO:+0100
TZNAME:CET
END:STANDARD
END:VTIMEZONE
END:VCALENDAR