BEGIN:VCALENDAR
VERSION:2.0
PRODID:-//wp-events-plugin.com//7.2.3.1//EN
TZID:Europe/Warsaw
X-WR-TIMEZONE:Europe/Warsaw
BEGIN:VEVENT
UID:136@skarbygor.pl
DTSTART;TZID=Europe/Warsaw;VALUE=DATE:20200206
DTEND;TZID=Europe/Warsaw;VALUE=DATE:20200210
DTSTAMP:20200129T200156Z
URL:https://skarbygor.pl/events/48-goralski-karnawal-2020r/
SUMMARY:48. Góralski Karnawał 2020r.
DESCRIPTION:6 – 9 lutego 2020 r.\n48. Góralski Karnawał\nOgólnopolski 
 Konkurs Grup Kolędniczych \,\nPopis Par Tanecznych\, Konkurs Tańca Zbój
 nickiego\, Kumoterki\n\n[adrotate group="2"]\n\n\n[caption id="attachment_
 7447" align="alignleft" width="738"] 48 Góralski Karnawał - plakat1_m[/c
 aption]\n\n[caption id="attachment_7448" align="alignleft" width="733"] 48
  Góralski Karnawał - plakat2_m[/caption]\n\n&nbsp\;
ATTACH;FMTTYPE=image/jpeg:https://skarbygor.pl/wp-content/uploads/2019/12/
 ZAPROSZENIE-2019-publikacja-1.png
CATEGORIES:48. Góralski Karnawał,Bukowiańskie Centrum Kultury "Dom
 Ludowy",Góralski Karnawał
LOCATION:Bukowiańskie Centrum Kultury "Dom Ludowy"\, ul. Tadeusza Kościus
 zki 87\, Bukowina Tatrzańska\, Małopolskie\, 34-530\, małopolska\, Pola
 nd
GEO:49.339497;20.102189
X-APPLE-STRUCTURED-LOCATION;VALUE=URI;X-ADDRESS=ul. Tadeusza Kościuszki 87
 \, Bukowina Tatrzańska\, Małopolskie\, 34-530\, małopolska\, Poland;X-A
 PPLE-RADIUS=100;X-TITLE=Bukowiańskie Centrum Kultury \"Dom Ludowy\":geo:4
 9.339497,20.102189
END:VEVENT
BEGIN:VTIMEZONE
TZID:Europe/Warsaw
X-LIC-LOCATION:Europe/Warsaw
BEGIN:STANDARD
DTSTART:20191027T020000
TZOFFSETFROM:+0200
TZOFFSETTO:+0100
TZNAME:CET
END:STANDARD
END:VTIMEZONE
END:VCALENDAR