BEGIN:VCALENDAR
VERSION:2.0
PRODID:-//wp-events-plugin.com//7.2.3.1//EN
TZID:Europe/Warsaw
X-WR-TIMEZONE:Europe/Warsaw
BEGIN:VEVENT
UID:354@skarbygor.pl
DTSTART;TZID=Europe/Warsaw:20260207T100000
DTEND;TZID=Europe/Warsaw:20260207T230000
DTSTAMP:20260126T113302Z
URL:https://skarbygor.pl/events/54-goralski-karnawal-bukowina-tatrzanska-d
 zien-3-7-lutego-sobota/
SUMMARY:54. Góralski Karnawał - Bukowina Tatrzańska - 7 lutego (sobota) 
 - dzień 3
DESCRIPTION:54. Góralski Karnawał - Bukowina Tatrzańska\, 5 - 8 lutego 2
 026 r.\nOgólnopolski Konkurs Grup Kolędniczych\, Popis Par Tanecznych\, 
 Konkurs Tańca Zbójnickiego\, Kumoterki\n\nProgram - dzień 3\n\n7 lutego
  (sobota)\n\n 	10.00 Konkurs grup kolędniczych\n 	15.00 Konkurs grup kol
 ędniczych\n 	19.00 WIECZÓR POGÓRZAŃSKI\nWystęp Zespołu Regionalnego 
 „Lipniczanie” z Lipnicy Wielkiej\n 	20.00 Konkurs tańca zbójnickiego
 \, popis par tanecznych\n\n[adrotate group="2"]\n\nWYDARZENIA TOWARZYSZĄC
 E:\n\n 	Wystawa Twórczości Ludowej (w godz. 10.00-20.00\; świetlica Dom
 u Ludowego)\n 	XV Zimowa Krajowa Wystawa Polskich Owczarków Podhalańskic
 h\n(sobota 7 lutego\, godz.10.00\, parking pod Domem Ludowym)\n 	Zawody st
 rzeleckie o „Turoniowy Róg” (sobota 7 lutego\, godz. 10.00\, teren po
 d bukowiańskimi termami)\n\nOrganizator zastrzega sobie prawo zmian w pro
 gramie\nCena biletu na wydarzenia wieczorne (od godziny 19.00) - 30.00 zł
 .\nDzieci do lat 6 – wstęp wolny\n\n[caption id="attachment_73742" alig
 n="aligncenter" width="722"] Baner 54. Góralski Karnawał w Bukowinie Tat
 rzańskiej 5-8 lutego 2026[/caption]\n\n[adrotate group="2"]
ATTACH;FMTTYPE=image/jpeg:https://skarbygor.pl/wp-content/uploads/2026/01/
 Baner-54.-Goralski-Karnawal-w-Bukowinie-Tatrzanskiej-5-8-lutego-2026.png
CATEGORIES:54. Góralski Karnawał,Góralski Karnawał
LOCATION:Bukowiańskie Centrum Kultury "Dom Ludowy"\, ul. Tadeusza Kościus
 zki 87\, Bukowina Tatrzańska\, Małopolskie\, 34-530\, małopolska\, Pola
 nd
GEO:49.339497;20.102189
X-APPLE-STRUCTURED-LOCATION;VALUE=URI;X-ADDRESS=ul. Tadeusza Kościuszki 87
 \, Bukowina Tatrzańska\, Małopolskie\, 34-530\, małopolska\, Poland;X-A
 PPLE-RADIUS=100;X-TITLE=Bukowiańskie Centrum Kultury \"Dom Ludowy\":geo:4
 9.339497,20.102189
END:VEVENT
BEGIN:VTIMEZONE
TZID:Europe/Warsaw
X-LIC-LOCATION:Europe/Warsaw
BEGIN:STANDARD
DTSTART:20251026T020000
TZOFFSETFROM:+0200
TZOFFSETTO:+0100
TZNAME:CET
END:STANDARD
END:VTIMEZONE
END:VCALENDAR