BEGIN:VCALENDAR
VERSION:2.0
PRODID:-//wp-events-plugin.com//7.2.3.1//EN
TZID:Europe/Warsaw
X-WR-TIMEZONE:Europe/Warsaw
BEGIN:VEVENT
UID:76@skarbygor.pl
DTSTART;TZID=Europe/Warsaw:20190106T160000
DTEND;TZID=Europe/Warsaw:20190106T170000
DTSTAMP:20190105T195900Z
URL:https://skarbygor.pl/events/bukowianskie-jaselka-4/
SUMMARY:Bukowiańskie Jasełka
DESCRIPTION:Bukowiańskie Jasełka w wykonaniu dziecięco - młodzieżowego
  zespołu regionalnego "Mali Wiyrchowianie" to góralskie\, pełne radośc
 i spotkanie przy żłóbku nowonarodzonego Dzieciątka Jezus. Czy zobaczym
 y Heroda? Co mogą ofiarować Panu biedni pastuszkowie? A może usłyszymy
  kłapanie capa?\nZ całą pewnością nie zabraknie góralskiej muzyki\, 
 tańca i wspólnego kolędowania.\nSerdecznie zapraszamy!\n\n\n\n\n(adsbyg
 oogle = window.adsbygoogle || []).push({})\;\n\nZobacz również:\n\nBukow
 iańskie Jasełka 2017-12-28 - galeria zdjęć\n\nBukowiańskie Jasełka 2
 018-01-07 - galeria zdjęć\n\nFotorelacja z Bukowiańskich Jasełek 2018-
 12-30\n\nMizerna Cicha w wykonaniu Zespołu Regionalnego Mali Wirchowianie
  w trakcie Bukowiańskich Jasełek:\n\n\n"Oj Malućki\, Malućki" - Bukowi
 ańskie Jasełka\n\n\n\n"Cap" - Bukowiańskie Jasełka\n\n\n&nbsp\;\n\n\n\
 n\n\n(adsbygoogle = window.adsbygoogle || []).push({})\;\n\n\n[caption id=
 "attachment_3507" align="alignnone" width="1123"] 19.01.06 Bukowiańskie J
 asełka - plakat[/caption]
ATTACH;FMTTYPE=image/jpeg:https://skarbygor.pl/wp-content/uploads/2018/12/
 Bukowiańskie-Jasełka-2018-01-07-mDSC_3527.jpg
CATEGORIES:Bukowiańskie Centrum Kultury "Dom Ludowy"
LOCATION:Bukowiańskie Centrum Kultury "Dom Ludowy"\, ul. Tadeusza Kościus
 zki 87\, Bukowina Tatrzańska\, Małopolskie\, 34-530\, małopolska\, Pola
 nd
GEO:49.339497;20.102189
X-APPLE-STRUCTURED-LOCATION;VALUE=URI;X-ADDRESS=ul. Tadeusza Kościuszki 87
 \, Bukowina Tatrzańska\, Małopolskie\, 34-530\, małopolska\, Poland;X-A
 PPLE-RADIUS=100;X-TITLE=Bukowiańskie Centrum Kultury \"Dom Ludowy\":geo:4
 9.339497,20.102189
END:VEVENT
BEGIN:VTIMEZONE
TZID:Europe/Warsaw
X-LIC-LOCATION:Europe/Warsaw
BEGIN:STANDARD
DTSTART:20181028T020000
TZOFFSETFROM:+0200
TZOFFSETTO:+0100
TZNAME:CET
END:STANDARD
END:VTIMEZONE
END:VCALENDAR