BEGIN:VCALENDAR
VERSION:2.0
PRODID:-//wp-events-plugin.com//7.2.3.1//EN
TZID:Europe/Warsaw
X-WR-TIMEZONE:Europe/Warsaw
BEGIN:VEVENT
UID:90@skarbygor.pl
DTSTART;TZID=Europe/Warsaw:20190126T180000
DTEND;TZID=Europe/Warsaw:20190126T220000
DTSTAMP:20190129T004150Z
URL:https://skarbygor.pl/events/koncert-jubileuszowy-z-okazji-xxx-lecia-ze
 spolu-regionalnego-zielony-jawor/
SUMMARY:Koncert Jubileuszowy z okazji XXX-lecia Zespołu Regionalnego "Ziel
 ony Jawor"
DESCRIPTION:Zespół Regionalny "Zielony Jawor" z Krempach serdecznie zapra
 sza na Koncert Jubileuszowy z okazji XXX-lecia swojej działalności.\n\nZ
 obacz również:\n\n 	"Rakusianom na despet" - fotorelacja\n 	30-to lecie 
 Zespołu Regionalnego "Zielony Jawor" z Krempach\n\n
ATTACH;FMTTYPE=image/jpeg:https://skarbygor.pl/wp-content/uploads/2019/01/
 Plakat-Zielony-Jawor.jpg
CATEGORIES:Inne wydarzenia,Wiejski Dom Kultury w Krempachach,Zielony Jawor
LOCATION:Wiejski Dom Kultury - Krempachy\, ul. Długa 136\, Krempachy\, Ma
 łopolskie\, 34-432\, Spisz\, Poland
GEO:49.4352869;20.169750900000054
X-APPLE-STRUCTURED-LOCATION;VALUE=URI;X-ADDRESS=ul. Długa 136\, Krempachy\
 , Małopolskie\, 34-432\, Spisz\, Poland;X-APPLE-RADIUS=100;X-TITLE=Wiejsk
 i Dom Kultury - Krempachy:geo:49.4352869,20.169750900000054
END:VEVENT
BEGIN:VTIMEZONE
TZID:Europe/Warsaw
X-LIC-LOCATION:Europe/Warsaw
BEGIN:STANDARD
DTSTART:20181028T020000
TZOFFSETFROM:+0200
TZOFFSETTO:+0100
TZNAME:CET
END:STANDARD
END:VTIMEZONE
END:VCALENDAR