BEGIN:VCALENDAR
VERSION:2.0
PRODID:-//wp-events-plugin.com//7.2.3.1//EN
TZID:Europe/Warsaw
X-WR-TIMEZONE:Europe/Warsaw
BEGIN:VEVENT
UID:122@skarbygor.pl
DTSTART;TZID=Europe/Warsaw:20190928T180000
DTEND;TZID=Europe/Warsaw:20190928T200000
DTSTAMP:20190925T132631Z
URL:https://skarbygor.pl/events/koncerty-jesienny-i-warsztaty-instruktorsk
 ie/
SUMMARY:Koncerty Jesienny i Warsztaty Instruktorskie
DESCRIPTION:Koncerty Jesienny i Warsztaty Instruktorskie\nKoncert zespołu 
 ZIELONY JAWOR oraz instruktorów tańca z Polski i zagranicy w ramach Ogó
 lnopolskich Warsztatów Tanecznych\n\n[caption id="attachment_5792" align=
 "alignleft" width="661"] Koncerty Jesienny i Warsztaty Instruktorskie[/cap
 tion]\n\n&nbsp\;
ATTACH;FMTTYPE=image/jpeg:https://skarbygor.pl/wp-content/uploads/2019/09/
 koncert-jesienny-zielony-jawor-e1569419003529.jpg
CATEGORIES:Wiejski Dom Kultury w Krempachach
LOCATION:Wiejski Dom Kultury - Krempachy\, ul. Długa 136\, Krempachy\, Ma
 łopolskie\, 34-432\, Spisz\, Poland
GEO:49.4352869;20.169750900000054
X-APPLE-STRUCTURED-LOCATION;VALUE=URI;X-ADDRESS=ul. Długa 136\, Krempachy\
 , Małopolskie\, 34-432\, Spisz\, Poland;X-APPLE-RADIUS=100;X-TITLE=Wiejsk
 i Dom Kultury - Krempachy:geo:49.4352869,20.169750900000054
END:VEVENT
BEGIN:VTIMEZONE
TZID:Europe/Warsaw
X-LIC-LOCATION:Europe/Warsaw
BEGIN:DAYLIGHT
DTSTART:20190331T030000
TZOFFSETFROM:+0100
TZOFFSETTO:+0200
TZNAME:CEST
END:DAYLIGHT
END:VTIMEZONE
END:VCALENDAR