BEGIN:VCALENDAR
VERSION:2.0
PRODID:-//wp-events-plugin.com//7.2.3.1//EN
TZID:Europe/Warsaw
X-WR-TIMEZONE:Europe/Warsaw
BEGIN:VEVENT
UID:70@skarbygor.pl
DTSTART;TZID=Europe/Warsaw:20181202T110000
DTEND;TZID=Europe/Warsaw:20181202T140000
DTSTAMP:20181202T222028Z
URL:https://skarbygor.pl/events/odsloniecie-obelisku-upamietniajacego-legi
 onistow-z-suchego/
SUMMARY:Odsłonięcie obelisku upamiętniającego Legionistów z Suchego
DESCRIPTION:\n\n\n\nProgram:\n\n 	11:00 Msza Święta w oprawie góralskiej
  w Kościele Parafialnym w Poroninie\nPo Mszy Świętej program okoliczno
 ściowy "Oblicze Niepodległej" przygotowany przez uczniów Szkoły Podsta
 wowej im. Antoniny Tatar w Suchem.\n 	12:00 Przejazd pod Dom Orłów w Suc
 hem\n 	12:30 Odśpiewanie hymnu państwowego oraz odsłonięcie obelisku u
 pamiętniającego Legionistów z Suchego poległych na frontach I wojny ś
 wiatowej.\n
ATTACH;FMTTYPE=image/jpeg:https://skarbygor.pl/wp-content/uploads/2018/11/
 Zaproszenie_1.jpg
CATEGORIES:Inne wydarzenia
LOCATION:Parafia św. Marii Magdaleny w Poroninie\, Józefa Piłsudskiego 1
 7\, Poronin\, Małopolskie\, 34-520\, podhale\, Poland
GEO:49.338671;20.005921100000023
X-APPLE-STRUCTURED-LOCATION;VALUE=URI;X-ADDRESS=Józefa Piłsudskiego 17\, 
 Poronin\, Małopolskie\, 34-520\, podhale\, Poland;X-APPLE-RADIUS=100;X-TI
 TLE=Parafia św. Marii Magdaleny w Poroninie:geo:49.338671,20.005921100000
 023
END:VEVENT
BEGIN:VTIMEZONE
TZID:Europe/Warsaw
X-LIC-LOCATION:Europe/Warsaw
BEGIN:STANDARD
DTSTART:20181028T020000
TZOFFSETFROM:+0200
TZOFFSETTO:+0100
TZNAME:CET
END:STANDARD
END:VTIMEZONE
END:VCALENDAR