BEGIN:VCALENDAR
VERSION:2.0
PRODID:-//wp-events-plugin.com//7.2.3.1//EN
TZID:Europe/Warsaw
X-WR-TIMEZONE:Europe/Warsaw
BEGIN:VEVENT
UID:67@skarbygor.pl
DTSTART;TZID=Europe/Warsaw:20181011T100000
DTEND;TZID=Europe/Warsaw:20181011T160000
DTSTAMP:20180918T102101Z
URL:https://skarbygor.pl/events/ogolnopolska-konferencja-naukowa-z-serii-e
 dukacja-medialna-i/
SUMMARY:OGÓLNOPOLSKA KONFERENCJA NAUKOWA z serii Edukacja Medialna - I
DESCRIPTION:Piękno – Dziedzictwo – Komunikacja\nHarklowa 2018\n\nSłow
 o wstępne 10.00 - 10.20\nprof. nadzw. dr hab. Stanisław Gulak\nKs. abp p
 rof. dr hab. Marek Jędraszewski\nDr Katarzyna Drąg\nGrzegorz Watycha\nJa
 n Smarduch\nKs. mgr kan. Eugeniusz Dziubek\n\nWięcej o: Kościele parafia
 lnym Narodzenia NMP w Harklowej\n\nProgram\n\n\n\n10.20 - 10.40\nJego Eksc
 elencja Pan Tsukasa Kawada\nO przyjaźni polsko-japońskiej trwającej 100
  lat\n\n\n10.40 - 11.00\nLeszek Zegzda\nHarklowa – miejsce na szlaku wsp
 ólnej świadomości\n\n\n11.00 - 11.20\nProf. dr hab. Jacek Purchla\nFeno
 men Harklowej z perspektywy UNESCO\n\n\n11.20 - 11.40\nKs. Prof. nadzw. dr
  hab. Stanisław Gulak\nDigitalizacja dóbr kultury w ujęciu dziedzictwa 
 narodowego i regionalnego na przykładzie zbiorów Podhalaników\n\n\n11.4
 0 - 12.00\ndr inż. architekt Jan Janczykowski\nTłuczań – Skrzydlna 
 – Siemiechów. Szansa na nowe życie zapomnianych świątyń.\n\n\n12.00
  - 12.20\nKs. prof. dr hab. Adam Maj\nPiękno jako wartość wychowawcza\n
 \n\n\n\n\n(adsbygoogle = window.adsbygoogle || []).push({})\;\n\n\n\n12.20
  - 12.40\nRed. Bogusław Chrabota\nMetafizyka i media\n\n\n12.40– 13.00\
 nAkiko Miwa\nHarklowa – ARIAKE – Japonia\n\n\n13.40 – 14.00\nProf. d
 r hab. med. Andrzej Szczudlik\nHistoria Harklowej – nasze dziedzictwo\n\
 n\n14.00 – 14.20\nDr Jarosław Adamowicz\nŚredniowieczny kościół w H
 arklowej świadectwem wieków - prace badawcze i konserwatorskie w latach 
 2005-2014\n\n\n14.20 – 14.40\nKs. Dr hab. Robert Nęcek\nKomunikacja sym
 boliczna na przykładzie świątyni w Harklowej\n\n\n14.40 – 15.00\nMgr 
 Joanna Sobczyk-Pająk\nŚwiatło w fotografii sakralnej na przykładzie ko
 ścioła w Harklowej\n\n\n15.00 – 15.20\nProf. nadzw. dr hab. Krzysztof 
 Łabędź\nMiłość społeczna? Poglądy i przekonania współczesnego sp
 ołeczeństwa polskiego\n\n\n15.20 – 15.40\nKs. Dr Krzysztof Biros\nCzł
 owiek bytem zakorzenionym w wartościach\n\n\n\n\n\n\n(adsbygoogle = windo
 w.adsbygoogle || []).push({})\;\n\n\n\n\n\n(adsbygoogle = window.adsbygoog
 le || []).push({})\;\n
ATTACH;FMTTYPE=image/jpeg:https://skarbygor.pl/wp-content/uploads/2018/09/
 plakat_harklowa-small.jpg
CATEGORIES:Konferencja naukowa
LOCATION:Podhalańska Państwowa Wyższa Szkoła Zawodowa w Nowym Targu\, u
 l. Kokoszków 71\, Nowy Targ\, Małopolskie\, 34-400\, podhale\, Poland
GEO:49.489998;20.046412499999974
X-APPLE-STRUCTURED-LOCATION;VALUE=URI;X-ADDRESS=ul. Kokoszków 71\, Nowy Ta
 rg\, Małopolskie\, 34-400\, podhale\, Poland;X-APPLE-RADIUS=100;X-TITLE=P
 odhalańska Państwowa Wyższa Szkoła Zawodowa w Nowym Targu:geo:49.48999
 8,20.046412499999974
END:VEVENT
BEGIN:VTIMEZONE
TZID:Europe/Warsaw
X-LIC-LOCATION:Europe/Warsaw
BEGIN:DAYLIGHT
DTSTART:20180325T030000
TZOFFSETFROM:+0100
TZOFFSETTO:+0200
TZNAME:CEST
END:DAYLIGHT
END:VTIMEZONE
END:VCALENDAR