BEGIN:VCALENDAR
VERSION:2.0
PRODID:-//wp-events-plugin.com//7.2.3.1//EN
TZID:Europe/Warsaw
X-WR-TIMEZONE:Europe/Warsaw
BEGIN:VEVENT
UID:101@skarbygor.pl
DTSTART;TZID=Europe/Warsaw:20190317T180000
DTEND;TZID=Europe/Warsaw:20190317T180000
DTSTAMP:20190309T142900Z
URL:https://skarbygor.pl/events/pokaz-filmu-ostatni-gorale/
SUMMARY:Pokaz filmu Ostatni Górale
DESCRIPTION:Zapraszamy na pokaz filmu Ostatni Górale w Bukowiańskim Centr
 um Kultury - Dom Ludowy!\n\n- Laureat Drewnianej Góry na 14. Spotkaniach 
 z Filmem Górskim w Zakopanem\n- Laureat Złotej Kozicy na Festiwalu Górs
 kim Adrenalinium w Żywcu\n- Oficjalna selekcja na 10th Toronto Polish Fil
 m Festival\n- Znalazł się też w programie 16. Krakowskiego Festiwalu G
 órskiego\n\nFilm przedstawia polską kulturę góralską w sposób piękn
 y i liryczny. Kładzie nacisk na pokazanie polskich krajobrazów\, jak ró
 wnież na barwne postacie. Przedstawia portrety kilku polskich górali\, k
 tórzy wykonują te same zawody i dzielą te same pasje\, które zajmował
 y ich przodków na przestrzeni minionych kilku stuleci. Ludzi\, których c
 harakter kształtuje się w konfrontacji z naturą – niedostępnymi gór
 ami\, zmianami pogody i zwierzętami.\n\n[caption id="attachment_4279" ali
 gn="alignnone" width="677"] Ostatni Górale - plakat[/caption]
ATTACH;FMTTYPE=image/jpeg:https://skarbygor.pl/wp-content/uploads/2019/03/
 ostatni-górale.jpg
CATEGORIES:Bukowiańskie Centrum Kultury "Dom Ludowy"
LOCATION:Bukowiańskie Centrum Kultury "Dom Ludowy"\, ul. Tadeusza Kościus
 zki 87\, Bukowina Tatrzańska\, Małopolskie\, 34-530\, małopolska\, Pola
 nd
GEO:49.339497;20.102189
X-APPLE-STRUCTURED-LOCATION;VALUE=URI;X-ADDRESS=ul. Tadeusza Kościuszki 87
 \, Bukowina Tatrzańska\, Małopolskie\, 34-530\, małopolska\, Poland;X-A
 PPLE-RADIUS=100;X-TITLE=Bukowiańskie Centrum Kultury \"Dom Ludowy\":geo:4
 9.339497,20.102189
END:VEVENT
BEGIN:VTIMEZONE
TZID:Europe/Warsaw
X-LIC-LOCATION:Europe/Warsaw
BEGIN:STANDARD
DTSTART:20181028T020000
TZOFFSETFROM:+0200
TZOFFSETTO:+0100
TZNAME:CET
END:STANDARD
END:VTIMEZONE
END:VCALENDAR