BEGIN:VCALENDAR
VERSION:2.0
PRODID:-//wp-events-plugin.com//7.2.3.1//EN
TZID:Europe/Warsaw
X-WR-TIMEZONE:Europe/Warsaw
BEGIN:VEVENT
UID:135@skarbygor.pl
DTSTART;TZID=Europe/Warsaw:20191214T160000
DTEND;TZID=Europe/Warsaw:20191214T180000
DTSTAMP:20191211T105838Z
URL:https://skarbygor.pl/events/promocja-albumu-koledowanie-jako-obrzed-i-
 widowisko-zaproszenie/
SUMMARY:Promocja albumu „Kolędowanie\, jako obrzęd i widowisko” - Zap
 roszenie
DESCRIPTION:Serdecznie zapraszamy na spotkanie promujące album autorstwa d
 r. hab. Stanisława Węglarza „Kolędowanie\, jako obrzęd i widowisko -
  Góralski Karnawał w Bukowinie Tatrzańskiej 1973-2017”.\n\nDom Ludowy
  w Bukowinie Tatrzańskiej 14 grudnia 2019r. godz. 16:00.\n\nGościnnie wy
 stąpi grupa kolędnicza "Draby" z Mystkowa.\n\n[caption id="attachment_69
 49" align="alignleft" width="413"] Promocja albumu „Kolędowanie\, jako 
 obrzęd i widowisko” - Zaproszenie[/caption]\n\n[caption id="attachment_
 6950" align="alignleft" width="413"] Promocja albumu „Kolędowanie\, jak
 o obrzęd i widowisko” - Zaproszenie 2[/caption]
ATTACH;FMTTYPE=image/jpeg:https://skarbygor.pl/wp-content/uploads/2019/12/
 ZAPROSZENIE-2019-publikacja-m.png
CATEGORIES:Bukowiańskie Centrum Kultury "Dom Ludowy",Góralski Karnawał
LOCATION:Bukowiańskie Centrum Kultury "Dom Ludowy"\, ul. Tadeusza Kościus
 zki 87\, Bukowina Tatrzańska\, Małopolskie\, 34-530\, małopolska\, Pola
 nd
GEO:49.339497;20.102189
X-APPLE-STRUCTURED-LOCATION;VALUE=URI;X-ADDRESS=ul. Tadeusza Kościuszki 87
 \, Bukowina Tatrzańska\, Małopolskie\, 34-530\, małopolska\, Poland;X-A
 PPLE-RADIUS=100;X-TITLE=Bukowiańskie Centrum Kultury \"Dom Ludowy\":geo:4
 9.339497,20.102189
END:VEVENT
BEGIN:VTIMEZONE
TZID:Europe/Warsaw
X-LIC-LOCATION:Europe/Warsaw
BEGIN:STANDARD
DTSTART:20191027T020000
TZOFFSETFROM:+0200
TZOFFSETTO:+0100
TZNAME:CET
END:STANDARD
END:VTIMEZONE
END:VCALENDAR