BEGIN:VCALENDAR
VERSION:2.0
PRODID:-//wp-events-plugin.com//7.2.3.1//EN
TZID:Europe/Warsaw
X-WR-TIMEZONE:Europe/Warsaw
BEGIN:VEVENT
UID:180@skarbygor.pl
DTSTART;TZID=Europe/Warsaw:20200912T190000
DTEND;TZID=Europe/Warsaw:20200912T203000
DTSTAMP:20200904T223947Z
URL:https://skarbygor.pl/events/quasi-una-fantasia-a-la-polacca-koncert-in
 auguracyjny/
SUMMARY:Quasi una fantasia à la polacca. Koncert Inauguracyjny
DESCRIPTION:Quasi una fantasia à la polacca. Koncert Inauguracyjny - XII 
 Międzynarodowy Festiwal „Muzyka na Szczytach”\n12.09.2020 r.\, godz. 
 19.00\nKościół św. Krzyża w Zakopanem\n\n[caption id="attachment_9009
 " align="alignleft" width="376"] XII Międzynarodowy Festiwal „Muzyka na
  Szczytach”[/caption]\n\nProgram:\nP. Szymański – „quasi una sinfon
 ietta” na orkiestrę kameralną (1990)\nL. van Beethoven – Koncert skr
 zypcowy D-dur op. 61\nH.M. Górecki – Koncert na klawesyn i orkiestrę 
 smyczkową op. 40\n\nWykonawcy:\nMałgorzata Sarbak – klawesyn\nElias Da
 vid Moncado\, laureat 5. Międzynarodowego Konkursu Skrzypcowego im. Karol
 a Lipińskiego w Toruniu – skrzypce\nOrkiestra Opery Wrocławskiej pod 
 dyrekcją Bassema Akiki\n\nWystęp Eliasa Davida Moncado jest nagrodą dyr
 ektora Festiwalu „Muzyka na Szczytach” – Pawła Mykietyna za zdobyci
 e I nagrody w 5. Międzynarodowym Konkursie Skrzypcowym im. Karola Lipińs
 kiego w Toruniu w 2019 roku.\n\nZobacz więcej:\n\n„Muzyka na Szczytach
 ”
ATTACH;FMTTYPE=image/jpeg:https://skarbygor.pl/wp-content/uploads/2020/09/
 plakat_MNS-2020-ogolny-B2.jpg
CATEGORIES:Inne wydarzenia,Koncert
LOCATION:Kościół Pw. Św. Krzyża w Zakopanem\, ul. Chałubińskiego 30\
 , Zakopane\, Małopolskie\, podhale\, Poland
GEO:49.28505;19.973359999999957
X-APPLE-STRUCTURED-LOCATION;VALUE=URI;X-ADDRESS=ul. Chałubińskiego 30\, Z
 akopane\, Małopolskie\, podhale\, Poland;X-APPLE-RADIUS=100;X-TITLE=Kośc
 iół Pw. Św. Krzyża w Zakopanem:geo:49.28505,19.973359999999957
END:VEVENT
BEGIN:VTIMEZONE
TZID:Europe/Warsaw
X-LIC-LOCATION:Europe/Warsaw
BEGIN:DAYLIGHT
DTSTART:20200329T030000
TZOFFSETFROM:+0100
TZOFFSETTO:+0200
TZNAME:CEST
END:DAYLIGHT
END:VTIMEZONE
END:VCALENDAR