BEGIN:VCALENDAR
VERSION:2.0
PRODID:-//wp-events-plugin.com//7.2.3.1//EN
TZID:Europe/Warsaw
X-WR-TIMEZONE:Europe/Warsaw
BEGIN:VEVENT
UID:181@skarbygor.pl
DTSTART;TZID=Europe/Warsaw:20200913T190000
DTEND;TZID=Europe/Warsaw:20200913T203000
DTSTAMP:20200904T223936Z
URL:https://skarbygor.pl/events/spektakl-muzyczny-milczenie-syren/
SUMMARY:Spektakl muzyczny „Milczenie Syren” - XII Międzynarodowy Festi
 wal „Muzyka na Szczytach”
DESCRIPTION:Spektakl muzyczny „Milczenie Syren” - XII Międzynarodowy F
 estiwal „Muzyka na Szczytach”\n13.09.2020 r.\, godz. 19.00\nTeatr im.
  S.I. Witkiewicza w Zakopanem\n\nWyjątkowy projekt autorstwa Michała Pep
 ola\, wiolonczelisty\, który do współpracy zaprosił wybitną polską a
 ktorkę Magdalenę Cielecką. Spektakl to koncert-hybryda\, oryginalny muz
 yczny performance inspirowany wystawą „Syrena herbem twym zwodnicza” 
 oraz nowelą Franza Kafki „Milczenie syren”. Pomysł wykonania „Milc
 zenia syren” Tomasza Sikorskiego – utworu na wiolonczelę solo inspiro
 wanego esejem Franza Kafki – podsunęło muzykowi Muzeum Sztuki Nowoczes
 nej w Warszawie. Pepol podjął się zadania\, ale postanowił je odrobin
 ę skomplikować. Do muzyki Tomasza Sikorskiego dodał m.in. muzykę Schub
 erta napisaną do „Króla olch” Goethego\, utwory Philipa Glassa\, Jim
 iego Hendrixa i Tima Buckley’a.\n\n[caption id="attachment_9009" align="
 alignleft" width="376"] XII Międzynarodowy Festiwal „Muzyka na Szczytac
 h”[/caption]\n\nScenariusz i program – Michał Pepol\nRealizacja dźwi
 ęku i obrazu – Robert Migas\nRealizacja świateł – Patryk Adamski\nK
 ostiumy – Monika Kaleta\n\nWykonawcy:\nMagdalena Cielecka – głos\nMic
 hał Pepol – wiolonczele\, pianino\n\nZobacz więcej:\n\n„Muzyka na Sz
 czytach”\n\n&nbsp\;
ATTACH;FMTTYPE=image/jpeg:https://skarbygor.pl/wp-content/uploads/2020/09/
 plakat_MNS-2020-ogolny-B2.jpg
CATEGORIES:Inne wydarzenia,Koncert
LOCATION:Teatr im. S.I. Witkiewicza w Zakopanem\, Chramcówki 15\, Zakopane
 \, małopolskie\, 34-500\, Podhale\, Poland
X-APPLE-STRUCTURED-LOCATION;VALUE=URI;X-ADDRESS=Chramcówki 15\, Zakopane\,
  małopolskie\, 34-500\, Podhale\, Poland;X-APPLE-RADIUS=100;X-TITLE=Teatr
  im. S.I. Witkiewicza w Zakopanem:geo:0,0
END:VEVENT
BEGIN:VTIMEZONE
TZID:Europe/Warsaw
X-LIC-LOCATION:Europe/Warsaw
BEGIN:DAYLIGHT
DTSTART:20200329T030000
TZOFFSETFROM:+0100
TZOFFSETTO:+0200
TZNAME:CEST
END:DAYLIGHT
END:VTIMEZONE
END:VCALENDAR