BEGIN:VCALENDAR
VERSION:2.0
PRODID:-//wp-events-plugin.com//7.2.3.1//EN
TZID:Europe/Warsaw
X-WR-TIMEZONE:Europe/Warsaw
BEGIN:VEVENT
UID:84@skarbygor.pl
DTSTART;TZID=Europe/Warsaw:20190116T200000
DTEND;TZID=Europe/Warsaw:20190116T213000
DTSTAMP:20220704T224122Z
URL:https://skarbygor.pl/events/sztuka-teatralna-gwoltu-co-sie-nie-robi-10
 /
SUMMARY:Sztuka teatralna „Gwołtu\, co sie nie robi”
DESCRIPTION:Tym razem Regionalny Zespół Teatralny im. Józefa Pitoraka za
 prasza na komedię Aleksandra Fredry zaadaptowaną do gwary i realiów pod
 halańskich "Gwołtu\, co sie nie robi!"\nAkcja sztuki rozgrywa się w daw
 nej Bukowinie Tatrzańskiej\, gdzie od miesiąca panuje prawdziwa rewolucj
 a. Na gazdów padł blady strach\, bo żona wójta przejęła urząd i wra
 z z innymi kobietami podporządkowała sobie męski świat. Odtąd panowie
  muszą nosić damskie stroje\, gotować\, prząść\, a przede wszystkim 
 potulnie spełniać rozkazy i krytykę swoich żon.\nCo z tego wyniknie? C
 zy chłopy zdołają uwolnić się od spódnic\, kądzieli i wszystkich "k
 ar boskich"\, jakie spadły na nich w ostatnim czasie?\nAby się tego dowi
 edzieć zapraszamy na spektakl\, który z całą pewnością na długo zap
 adnie w Państwa pamięci :)\n\n\n\n\n(adsbygoogle = window.adsbygoogle ||
  []).push({})\;\n\nZobacz również:\n\n"Gwołtu\, co sie nie robi" - 2018
 -08-208 - galeria zdjęć\n\n&nbsp\;
ATTACH;FMTTYPE=image/jpeg:https://skarbygor.pl/wp-content/uploads/2018/12/
 Gwołtu-co-sie-nie-robi-2018-08-22-DSC_2005.jpg
CATEGORIES:Bukowiańskie Centrum Kultury "Dom Ludowy",Zespół Teatralny
 im. Józefa Pitoraka z Bukowiny Tatrzańskiej
LOCATION:Bukowiańskie Centrum Kultury "Dom Ludowy"\, ul. Tadeusza Kościus
 zki 87\, Bukowina Tatrzańska\, Małopolskie\, 34-530\, małopolska\, Pola
 nd
GEO:49.339497;20.102189
X-APPLE-STRUCTURED-LOCATION;VALUE=URI;X-ADDRESS=ul. Tadeusza Kościuszki 87
 \, Bukowina Tatrzańska\, Małopolskie\, 34-530\, małopolska\, Poland;X-A
 PPLE-RADIUS=100;X-TITLE=Bukowiańskie Centrum Kultury \"Dom Ludowy\":geo:4
 9.339497,20.102189
END:VEVENT
BEGIN:VTIMEZONE
TZID:Europe/Warsaw
X-LIC-LOCATION:Europe/Warsaw
BEGIN:STANDARD
DTSTART:20181028T020000
TZOFFSETFROM:+0200
TZOFFSETTO:+0100
TZNAME:CET
END:STANDARD
END:VTIMEZONE
END:VCALENDAR