BEGIN:VCALENDAR
VERSION:2.0
PRODID:-//wp-events-plugin.com//7.2.3.1//EN
TZID:Europe/Warsaw
X-WR-TIMEZONE:Europe/Warsaw
BEGIN:VEVENT
UID:274@skarbygor.pl
DTSTART;TZID=Europe/Warsaw:20220810T200000
DTEND;TZID=Europe/Warsaw:20220810T213000
DTSTAMP:20220724T213514Z
URL:https://skarbygor.pl/events/sztuka-teatralna-portki-14/
SUMMARY:Sztuka teatralna "Portki"
DESCRIPTION:Regionalny Zespół Teatralny im. Józefa Pitoraka z Bukowiny T
 atrzańskiej serdecznie zaprasza na komedię góralską w 3 aktach pt. "Po
 rtki" pióra Józefa Pitoraka. Sztuka zostanie wystawiona 10 sierpnia 2022
 r. (środa) o godz. 20:00 w Domu Ludowym w Bukowinie Tatrzańskiej.\n\nZob
 acz również:\n\n 	"Portki" - galeria zdjęć 24.01.2018r.\n\nNie możesz
  zobaczyć sztuki w tym terminie? Nic nie szkodzi\, sprawdź inne terminy:
  Grafik „Portki”\n\n[adrotate group="2"]\n\n[caption id="attachment_11
 63" align="aligncenter" width="520"] Portki[/caption]\n\n[adrotate group="
 2"]
ATTACH;FMTTYPE=image/jpeg:https://skarbygor.pl/wp-content/uploads/2018/03/
 DSC_7669.jpg
CATEGORIES:Teatr,Zespół Teatralny im. Józefa Pitoraka z Bukowiny
 Tatrzańskiej
LOCATION:Bukowiańskie Centrum Kultury "Dom Ludowy"\, ul. Tadeusza Kościus
 zki 87\, Bukowina Tatrzańska\, Małopolskie\, 34-530\, małopolska\, Pola
 nd
GEO:49.339497;20.102189
X-APPLE-STRUCTURED-LOCATION;VALUE=URI;X-ADDRESS=ul. Tadeusza Kościuszki 87
 \, Bukowina Tatrzańska\, Małopolskie\, 34-530\, małopolska\, Poland;X-A
 PPLE-RADIUS=100;X-TITLE=Bukowiańskie Centrum Kultury \"Dom Ludowy\":geo:4
 9.339497,20.102189
END:VEVENT
BEGIN:VTIMEZONE
TZID:Europe/Warsaw
X-LIC-LOCATION:Europe/Warsaw
BEGIN:DAYLIGHT
DTSTART:20220327T030000
TZOFFSETFROM:+0100
TZOFFSETTO:+0200
TZNAME:CEST
END:DAYLIGHT
END:VTIMEZONE
END:VCALENDAR