BEGIN:VCALENDAR
VERSION:2.0
PRODID:-//wp-events-plugin.com//7.2.3.1//EN
TZID:Europe/Warsaw
X-WR-TIMEZONE:Europe/Warsaw
BEGIN:VEVENT
UID:125@skarbygor.pl
DTSTART;TZID=Europe/Warsaw:20191018T183000
DTEND;TZID=Europe/Warsaw:20191018T200000
DTSTAMP:20190926T191942Z
URL:https://skarbygor.pl/events/tak-blisko-i-tak-daleko-rzecz-o-goralszczy
 znie-ktorej-nie-znamy-jak-ludzie-z-tatr-zalozyli-w-lodzi-wyzsza-szkole-fil
 mowa/
SUMMARY:Tak blisko i tak daleko - rzecz o góralszczyźnie\, której nie zn
 amy - "Jak ludzie z Tatr założyli w Łodzi Wyższą Szkołę Filmową"
DESCRIPTION:Bukowiańskie Centrum Kultury "Dom Ludowy" w Bukowinie Tatrzań
 skiej serdecznie zaprasza na cykl spotkań "Tak blisko i tak daleko - rzec
 z o góralszczyźnie\, której nie znamy"\n\n04.10.2019r. godz. 18:30 - St
 anisława Galica-Górkiewicz - "Cztery pory roku w muzyce góralskiej"\n\n
 11.10.2019r. godz. 18:30 - Jan Tarasek - "Pies z gór czyli Polski Owczare
 k Podhalański"\n\n18.10.2019r. godz. 18:30 - Waldemar Ludwisiak - "Jak lu
 dzie z Tatr założyli w Łodzi Wyższą Szkołę Filmową"\n\n25.10.2019r
 . godz. 18:30 - Rafał Jabłoński - Zelek - "Wizerunki góralskie w proce
 sie digitalizacyjnym. Górale i Bukowina Tatrzańska w zbiorach Muzeum Tat
 rzańskiego"\n\n[caption id="attachment_5796" align="aligncenter" width="5
 51"] Tak blisko i tak daleko - rzecz o góralszczyźnie\, której nie znam
 y[/caption]\n\n&nbsp\;
CATEGORIES:Bukowiańskie Centrum Kultury "Dom Ludowy"
LOCATION:Bukowiańskie Centrum Kultury "Dom Ludowy"\, ul. Tadeusza Kościus
 zki 87\, Bukowina Tatrzańska\, Małopolskie\, 34-530\, małopolska\, Pola
 nd
GEO:49.339497;20.102189
X-APPLE-STRUCTURED-LOCATION;VALUE=URI;X-ADDRESS=ul. Tadeusza Kościuszki 87
 \, Bukowina Tatrzańska\, Małopolskie\, 34-530\, małopolska\, Poland;X-A
 PPLE-RADIUS=100;X-TITLE=Bukowiańskie Centrum Kultury \"Dom Ludowy\":geo:4
 9.339497,20.102189
END:VEVENT
BEGIN:VTIMEZONE
TZID:Europe/Warsaw
X-LIC-LOCATION:Europe/Warsaw
BEGIN:DAYLIGHT
DTSTART:20190331T030000
TZOFFSETFROM:+0100
TZOFFSETTO:+0200
TZNAME:CEST
END:DAYLIGHT
END:VTIMEZONE
END:VCALENDAR