BEGIN:VCALENDAR
VERSION:2.0
PRODID:-//wp-events-plugin.com//7.2.3.1//EN
TZID:Europe/Warsaw
X-WR-TIMEZONE:Europe/Warsaw
BEGIN:VEVENT
UID:134@skarbygor.pl
DTSTART;TZID=Europe/Warsaw:20191208T090000
DTEND;TZID=Europe/Warsaw:20191208T183000
DTSTAMP:20191202T093344Z
URL:https://skarbygor.pl/events/viii-berdowe-muzykowaniy-2019/
SUMMARY:VIII Berdowe Muzykowaniy 2019
DESCRIPTION:VIII Berdowe Muzykowaniy 2019\nStowarzyszenie Przyjaciół Kult
 ury Podhalańskiej "Regle"\, Związek Podhalan Oddział Poronin oraz Rodzi
 na Tadeusza Szostaka - Berdy zapraszają na VIII. Przegląd Solistów i Ka
 pel im. Tadeusza Szostaka Berdy\, który odbędzie się 8 grudnia 2019r. (
 niedziela) w Gminnym Ośrodku Kultury w Poroninie.\nW Programie:\n\n 	9:00
  - Msza Św. za śp. Tadeusza Szostaka Berdę w kościele parafialnym pw. 
 Św. Marii Magdaleny w Poroninie\n 	10:00 - złożenie kwiatów na grobie 
 śp. Tadeusza Szostaka Berdy\n 	10:30 - przegląd solistów\, kapel i muzy
 k weselnych\n 	15:15 - występ uczniów - wychowanków Dawida Czernika ora
 z występ zespołu "Regle"\n 	17:00 - podsumowanie przeglądu\, rozdanie d
 yplomów i nagród\n\n[caption id="attachment_6944" align="alignleft" widt
 h="663"] VIII Berdowe Muzykowaniy 2019 - plakat[/caption]
ATTACH;FMTTYPE=image/jpeg:https://skarbygor.pl/wp-content/uploads/2019/12/
 berdowe-muzykowanie-2019-plakat-mini.jpg
CATEGORIES:Gminny Ośrodek Kultury w Poroninie
LOCATION:Gminny Ośrodek Kultury w Poroninie\, ul. Józefa Piłsudskiego 2\
 , Poronin\, Małopolskie\, 34 - 520\, Poland
GEO:49.3375396;20.00600220000001
X-APPLE-STRUCTURED-LOCATION;VALUE=URI;X-ADDRESS=ul. Józefa Piłsudskiego 2
 \, Poronin\, Małopolskie\, 34 - 520\, Poland;X-APPLE-RADIUS=100;X-TITLE=G
 minny Ośrodek Kultury w Poroninie:geo:49.3375396,20.00600220000001
END:VEVENT
BEGIN:VTIMEZONE
TZID:Europe/Warsaw
X-LIC-LOCATION:Europe/Warsaw
BEGIN:STANDARD
DTSTART:20191027T020000
TZOFFSETFROM:+0200
TZOFFSETTO:+0100
TZNAME:CET
END:STANDARD
END:VTIMEZONE
END:VCALENDAR