BEGIN:VCALENDAR
VERSION:2.0
PRODID:-//wp-events-plugin.com//7.2.3.1//EN
TZID:Europe/Warsaw
X-WR-TIMEZONE:Europe/Warsaw
BEGIN:VEVENT
UID:66@skarbygor.pl
DTSTART;TZID=Europe/Warsaw:20180914T160000
DTEND;TZID=Europe/Warsaw:20180914T173000
DTSTAMP:20180913T124303Z
URL:https://skarbygor.pl/events/wernisaz-wystawa-fotografii-mieczyslawa-ka
 rlowicza-bialy-potok/
SUMMARY:Wernisaż Wystawa Fotografii Mieczysława Karłowicza - Biały Poto
 k
DESCRIPTION:
ATTACH;FMTTYPE=image/jpeg:https://skarbygor.pl/wp-content/uploads/2018/03/
 Plakat-Wystawa-M.Karłowicza-1-mini.jpg
CATEGORIES:Stowarzyszenie im. Mieczysława Karłowicza,Wystawa fotografii
LOCATION:Pensjonat "Biały Potok"\, Droga do Białego 7\, Zakopane\, Małop
 olskie\, 34-500\, podhale\, Poland
GEO:49.284;19.957172899999932
X-APPLE-STRUCTURED-LOCATION;VALUE=URI;X-ADDRESS=Droga do Białego 7\, Zakop
 ane\, Małopolskie\, 34-500\, podhale\, Poland;X-APPLE-RADIUS=100;X-TITLE=
 Pensjonat \"Biały Potok\":geo:49.284,19.957172899999932
END:VEVENT
BEGIN:VTIMEZONE
TZID:Europe/Warsaw
X-LIC-LOCATION:Europe/Warsaw
BEGIN:DAYLIGHT
DTSTART:20180325T030000
TZOFFSETFROM:+0100
TZOFFSETTO:+0200
TZNAME:CEST
END:DAYLIGHT
END:VTIMEZONE
END:VCALENDAR