BEGIN:VCALENDAR
VERSION:2.0
PRODID:-//wp-events-plugin.com//7.2.3.1//EN
TZID:Europe/Warsaw
X-WR-TIMEZONE:Europe/Warsaw
BEGIN:VEVENT
UID:186@skarbygor.pl
DTSTART;TZID=Europe/Warsaw:20200918T190000
DTEND;TZID=Europe/Warsaw:20200918T203000
DTSTAMP:20200904T223854Z
URL:https://skarbygor.pl/events/wspolczesne-reflexy-beethovena-miedzy-eroi
 co-a-perpetuum-stabile-koncert-kwartetu-flex-ensemble/
SUMMARY:Współczesne (re)flexy Beethovena: między eroico a perpetuum stab
 ile. Koncert kwartetu Flex Ensemble - XII Międzynarodowy Festiwal „Muzy
 ka na Szczytach”
DESCRIPTION:Współczesne (re)flexy Beethovena: między eroico a perpetuum 
 stabile. Koncert kwartetu Flex Ensemble - XII Międzynarodowy Festiwal 
 „Muzyka na Szczytach”\n18.09.2020 r.\, godz. 19.00\nKościół św. K
 rzyża w Zakopanem\n\n[caption id="attachment_9009" align="alignleft" widt
 h="376"] XII Międzynarodowy Festiwal „Muzyka na Szczytach”[/caption]\
 n\nProgram:\nG. Williamson – Uwertura\nL. van Beethoven – III Symfonia
  Es-dur op. 55 „Eroica”\, cz. 1 i 4\nG. Williamson – Wariacje „Ero
 ica”\nP. Mykietyn – „Perpetuum Stabile”\nJ. Brahms – Kwartet for
 tepianowy nr 1 g-moll op. 25\n\nWykonawcy:\nFlex Ensemble w składzie: Ann
 a Szulc-Kapala\, Kana Sugimura\, Martha Bijlsma\, Johannes Nies\n\nZobacz
  więcej:\n\n„Muzyka na Szczytach”\n\n&nbsp\;
ATTACH;FMTTYPE=image/jpeg:https://skarbygor.pl/wp-content/uploads/2020/09/
 plakat_MNS-2020-ogolny-B2.jpg
CATEGORIES:Inne wydarzenia,Koncert
LOCATION:Kościół Pw. Św. Krzyża w Zakopanem\, ul. Chałubińskiego 30\
 , Zakopane\, Małopolskie\, podhale\, Poland
GEO:49.28505;19.973359999999957
X-APPLE-STRUCTURED-LOCATION;VALUE=URI;X-ADDRESS=ul. Chałubińskiego 30\, Z
 akopane\, Małopolskie\, podhale\, Poland;X-APPLE-RADIUS=100;X-TITLE=Kośc
 iół Pw. Św. Krzyża w Zakopanem:geo:49.28505,19.973359999999957
END:VEVENT
BEGIN:VTIMEZONE
TZID:Europe/Warsaw
X-LIC-LOCATION:Europe/Warsaw
BEGIN:DAYLIGHT
DTSTART:20200329T030000
TZOFFSETFROM:+0100
TZOFFSETTO:+0200
TZNAME:CEST
END:DAYLIGHT
END:VTIMEZONE
END:VCALENDAR