BEGIN:VCALENDAR
VERSION:2.0
PRODID:-//wp-events-plugin.com//7.2.3.1//EN
TZID:Europe/Warsaw
X-WR-TIMEZONE:Europe/Warsaw
BEGIN:VEVENT
UID:104@skarbygor.pl
DTSTART;TZID=Europe/Warsaw:20190527T080000
DTEND;TZID=Europe/Warsaw:20190608T160000
DTSTAMP:20190524T144318Z
URL:https://skarbygor.pl/events/wystawa-gory-i-tusz/
SUMMARY:Wystawa "Góry i tusz"
DESCRIPTION:Zapraszamy na wystawę malarstwa Ścieżki Tuszu u stóp Tatr. 
 W trakcie wystawy będzie można zobaczyć prace Agady Jóźwiak\, Konrada
  Świteła oraz Lecha Żurkowskiego.\n\nKurator wystawy: Anna Katarzyna Ma
 leszko\nPrezentowane prace pochodzą z ostatnich dwóch lat.\nWystawa będ
 zie trwała od 24 maja do 8 czerwca 2019.\n\nUroczyste otwarcie 24 maja (p
 iątek) o godzinie 18.\nPodczas wernisażu odbędzie się japońskie Chano
 yu\, „wrzątek na herbatę”. Czyli pokaz i warsztaty japońskiej sztuk
 i Drogi Herbaty poprowadzone przez Stowarzyszenie Drogi Herbaty Urasenke T
 ankokai Sunshinkai\n\n[caption id="attachment_4313" align="alignnone" widt
 h="924"] Góry i tusz[/caption]
ATTACH;FMTTYPE=image/jpeg:https://skarbygor.pl/wp-content/uploads/2019/05/
 gory-i-tusz.jpg
CATEGORIES:Bukowiańskie Centrum Kultury "Dom Ludowy"
END:VEVENT
BEGIN:VTIMEZONE
TZID:Europe/Warsaw
X-LIC-LOCATION:Europe/Warsaw
BEGIN:DAYLIGHT
DTSTART:20190331T030000
TZOFFSETFROM:+0100
TZOFFSETTO:+0200
TZNAME:CEST
END:DAYLIGHT
END:VTIMEZONE
END:VCALENDAR