BEGIN:VCALENDAR
VERSION:2.0
PRODID:-//wp-events-plugin.com//7.2.3.1//EN
TZID:Europe/Warsaw
X-WR-TIMEZONE:Europe/Warsaw
BEGIN:VEVENT
UID:85@skarbygor.pl
DTSTART;TZID=Europe/Warsaw:20190117T190000
DTEND;TZID=Europe/Warsaw:20190117T203000
DTSTAMP:20190117T112554Z
URL:https://skarbygor.pl/events/wystep-zespolow-regionalnych-mali-bialcani
 e-i-zyngierki-z-bialki-tatrzanskiej/
SUMMARY:Występ zespołów regionalnych "Mali Białcanie" i "Zyngierki" z B
 iałki Tatrzańskiej
DESCRIPTION:\n\n&nbsp\;\n\n
ATTACH;FMTTYPE=image/jpeg:https://skarbygor.pl/wp-content/uploads/2018/07/
 DSC_7494_m.jpg
CATEGORIES:Bukowiańskie Centrum Kultury "Dom Ludowy"
LOCATION:Bukowiańskie Centrum Kultury "Dom Ludowy"\, ul. Tadeusza Kościus
 zki 87\, Bukowina Tatrzańska\, Małopolskie\, 34-530\, małopolska\, Pola
 nd
GEO:49.339497;20.102189
X-APPLE-STRUCTURED-LOCATION;VALUE=URI;X-ADDRESS=ul. Tadeusza Kościuszki 87
 \, Bukowina Tatrzańska\, Małopolskie\, 34-530\, małopolska\, Poland;X-A
 PPLE-RADIUS=100;X-TITLE=Bukowiańskie Centrum Kultury \"Dom Ludowy\":geo:4
 9.339497,20.102189
END:VEVENT
BEGIN:VTIMEZONE
TZID:Europe/Warsaw
X-LIC-LOCATION:Europe/Warsaw
BEGIN:STANDARD
DTSTART:20181028T020000
TZOFFSETFROM:+0200
TZOFFSETTO:+0100
TZNAME:CET
END:STANDARD
END:VTIMEZONE
END:VCALENDAR