BEGIN:VCALENDAR
VERSION:2.0
PRODID:-//wp-events-plugin.com//7.2.3.1//EN
TZID:Europe/Warsaw
X-WR-TIMEZONE:Europe/Warsaw
BEGIN:VEVENT
UID:102@skarbygor.pl
DTSTART;TZID=Europe/Warsaw:20190504T200000
DTEND;TZID=Europe/Warsaw:20190504T210000
DTSTAMP:20190427T134246Z
URL:https://skarbygor.pl/events/wystep-zespolu-regionalnego-wiyrchowianie-
 z-bukowiny-tatrzanskiej-2/
SUMMARY:Występ zespołu regionalnego "Wiyrchowianie" z Bukowiny Tatrzańsk
 iej
DESCRIPTION:[caption id="attachment_4304" align="alignnone" width="679"] Wy
 stęp zespołu regionalnego "Wiyrchowianie" z Bukowiny Tatrzańskiej 4 maj
 a[/caption]
ATTACH;FMTTYPE=image/jpeg:https://skarbygor.pl/wp-content/uploads/2019/04/
 wiyrchowianie-4-maja.jpg
CATEGORIES:Bukowiańskie Centrum Kultury "Dom Ludowy"
END:VEVENT
BEGIN:VTIMEZONE
TZID:Europe/Warsaw
X-LIC-LOCATION:Europe/Warsaw
BEGIN:DAYLIGHT
DTSTART:20190331T030000
TZOFFSETFROM:+0100
TZOFFSETTO:+0200
TZNAME:CEST
END:DAYLIGHT
END:VTIMEZONE
END:VCALENDAR